BEGIN:VCALENDAR
VERSION:2.0
PRODID:-//キオラスクエア広場 /三原駅前広場/広島県三原市 - ECPv5.8.0//NONSGML v1.0//EN
CALSCALE:GREGORIAN
METHOD:PUBLISH
X-WR-CALNAME:キオラスクエア広場 /三原駅前広場/広島県三原市
X-ORIGINAL-URL:https://kiaora-hiroba.com
X-WR-CALDESC:キオラスクエア広場 /三原駅前広場/広島県三原市 のイベント
BEGIN:VTIMEZONE
TZID:Asia/Tokyo
BEGIN:STANDARD
TZOFFSETFROM:+0900
TZOFFSETTO:+0900
TZNAME:JST
DTSTART:20260101T000000
END:STANDARD
END:VTIMEZONE
BEGIN:VEVENT
DTSTART;TZID=Asia/Tokyo:20260315T100000
DTEND;TZID=Asia/Tokyo:20260315T150000
DTSTAMP:20260423T013119
CREATED:20260305T032552Z
LAST-MODIFIED:20260311T115408Z
UID:3243-1773568800-1773586800@kiaora-hiroba.com
SUMMARY:3/15　Mimosa マルシェ
DESCRIPTION:＼3月15日(日) 10時～15時／\nMimosa マルシェ　\n\nハンドメイド作家さん達のマルシェを毎月第３日曜日に開催しています。\n中央図書館の隣りのレンタルスペース「サテラス」とキオラスクエア広場とで開催していますので遊びに来てください。\n\n詳細はコチラから\n　公式Instagram\n\n○出店○\n＊ありす工房　\n　@alice_kobo_4009　\n　レジンアクセサリー＆レジン雑貨　\n　\n＊HighQualiyコルギSalon縁　\n　@cuolcuol7　\n　短時間でスッキリ爽快！　\n　\n＊rock&mieko　\n　@rockmieko　\n　ジュエリーバッグ　\n　\n＊アブルージュ　\n　@aburuuju　\n　いちご飴、チョコバナナ　\n　\n＊みやび　\n　@_._miyabi　\n　プリン ゼリー　\n　\n＊micochi　\n　@micochi2011　\n　布小物　\n　\n＊ありす工房　\n　@alice_kobo_4009　\n　レジンアクセサリー＆雑貨　\n　\n＊ｔｍｋ　\n　@hoyusawa　\n　布小物 バッグ ⁡　\n　\n＊きなこ酢　\n　@Kinakosu　\n　アクセサリー＆ブックマーカー　\n　\n＊美倫　\n　@miirin217　\n　がま口、布小物　\n　\n＊Ru-ko　\n　@kokowa944　\n　ハンドメイドアクセサリー　\n　\n＊手作り工房こねこ　\n　@tikutikumaasa　\n　羊毛フェルトブローチ　\n　\n＊crochet.moja　\n　@crochet.moja　\n　かぎ針編みバッグと雑貨　\n\n　\n　\n\n＊出店者、内容は変更になる場合があります。\n＊少雨結構\n\n主催：mimosaマルシェ\n問い合わせ先： @mimosa.marche
URL:https://kiaora-hiroba.com/event/20260315-02
LOCATION:広場１区画利用
CATEGORIES:仮予約
ATTACH;FMTTYPE=image/jpeg:https://kiaora-hiroba.com/wp-content/uploads/2025/08/mimosa_marche2025.jpg
END:VEVENT
END:VCALENDAR