BEGIN:VCALENDAR
VERSION:2.0
PRODID:-//キオラスクエア広場 /三原駅前広場/広島県三原市 - ECPv5.8.0//NONSGML v1.0//EN
CALSCALE:GREGORIAN
METHOD:PUBLISH
X-WR-CALNAME:キオラスクエア広場 /三原駅前広場/広島県三原市
X-ORIGINAL-URL:https://kiaora-hiroba.com
X-WR-CALDESC:キオラスクエア広場 /三原駅前広場/広島県三原市 のイベント
BEGIN:VTIMEZONE
TZID:Asia/Tokyo
BEGIN:STANDARD
TZOFFSETFROM:+0900
TZOFFSETTO:+0900
TZNAME:JST
DTSTART:20260101T000000
END:STANDARD
END:VTIMEZONE
BEGIN:VEVENT
DTSTART;TZID=Asia/Tokyo:20260315T100000
DTEND;TZID=Asia/Tokyo:20260315T150000
DTSTAMP:20260423T013414
CREATED:20260305T032922Z
LAST-MODIFIED:20260311T114436Z
UID:3245-1773568800-1773586800@kiaora-hiroba.com
SUMMARY:3/15　ミニ沖縄
DESCRIPTION:＼2026年3月15日(日) 10時～15時／\nミ二沖縄\n\n人気の\n沖縄フードの屋台が\nキオラスクエア広場に出店。\n\n音楽ライブもあります！\n\n沖縄料理を楽しみに\n来てください！\n\n※天候により中止または内容を変更する場合がございます。\n\n主催者：沖縄料理\n連絡先：主催者Instagram
URL:https://kiaora-hiroba.com/event/20260315-03
LOCATION:広場半面①利用
CATEGORIES:仮予約
ATTACH;FMTTYPE=image/png:https://kiaora-hiroba.com/wp-content/uploads/2020/08/広場ロゴ仮.fw_.png
END:VEVENT
END:VCALENDAR