BEGIN:VCALENDAR
VERSION:2.0
PRODID:-//キオラスクエア広場 /三原駅前広場/広島県三原市 - ECPv5.8.0//NONSGML v1.0//EN
CALSCALE:GREGORIAN
METHOD:PUBLISH
X-WR-CALNAME:キオラスクエア広場 /三原駅前広場/広島県三原市
X-ORIGINAL-URL:https://kiaora-hiroba.com
X-WR-CALDESC:キオラスクエア広場 /三原駅前広場/広島県三原市 のイベント
BEGIN:VTIMEZONE
TZID:Asia/Tokyo
BEGIN:STANDARD
TZOFFSETFROM:+0900
TZOFFSETTO:+0900
TZNAME:JST
DTSTART:20260101T000000
END:STANDARD
END:VTIMEZONE
BEGIN:VEVENT
DTSTART;TZID=Asia/Tokyo:20260315T100000
DTEND;TZID=Asia/Tokyo:20260315T130000
DTSTAMP:20260423T013119
CREATED:20260305T032309Z
LAST-MODIFIED:20260311T120417Z
UID:3241-1773568800-1773579600@kiaora-hiroba.com
SUMMARY:3/15　日曜のんびり市
DESCRIPTION:＼2026年3月15日(日)／\n日曜のんびり市\n\n＼だいたい毎月第３日曜日にキオラスクエア広場で開催／\n\n詳しくは\n公式Instagram\n\n○出店○ \n＊きはら楽観堂　 \n　@rakkando_kihara \n　・季節のスパイスカレー \n　・マサラチャイ \n　・楽観堂のマナブマサラ（ミックススパイス） \n　・焼き菓子などなど \n \n＊マートル・レイン・ピクルス \n　@myrtlerainpickles \n　・季節のピクルスと野菜 \n \n＊禅和庵 \n　@zenna.an \n　・鶏がら、昆布、ネギ、生姜、 \n　　醤油のみを使い3日かけて作ったラーメン \n \n＊漢方薬局ホノカ堂 \n　@honoka.teshigoto \n　・内田糖化の米飴　 \n　　　国産米と麦芽を使い伝統的な \n　　　製法で作った身体に優しい水飴。 \n \n　・漢方生薬小分け販売 \n　　　菊花、クコ、龍眼肉、 \n　　　焙じはとむぎ、なつめ、 \n　　　赤乾姜、桂皮 \n \n　・薬効手染めあるでばらん製品 \n　　　自然界のエネルギーをシルクに染め込んだ \n　　　布ナプキン、ふんどしパンツ、 \n　　　ボディーロール、五本指ソックス \n \n　・手仕事サークルのハンドメイド作品　 \n　　　着物リメイク他　　 \n　　　　　 \n＊CAFE RICO \n　@nakamii_spn \n　・朝焙煎のコーヒー \n　・カスカラのドリンク \n \n＊moringa モリンガ \n　・宮古島産モリンガ \n　・1000円均一絵画　 \n \n＊チコリ珈琲店　 \n　内容はお楽しみに！！ \n \n＊なると企画 \n　@narutokikaku \n　・自分の強みがわかるHASTA手相、タロットリーディング、ペットとの相性占い \n　・手作りアクセサリー、雑貨など。猫のモチーフが多め \n \n＊裸足でスパイス \n　お家で簡単に使えて美味しいスパイスを販売しています。 \n　初めての方も使いやすいレシピ付きです。 \n　お気軽にのぞいてください！ \n　毎月書いている「裸足でスパイス通信」も読んでください！　 \n  \n\n＊出店者、内容は変更になる場合があります\n\n主催者：日曜のんびり市出店の会\n主催者Instagram：\n　　@nonbiri_ichi
URL:https://kiaora-hiroba.com/event/20260315_01
LOCATION:広場半面②利用
CATEGORIES:仮予約
ATTACH;FMTTYPE=image/jpeg:https://kiaora-hiroba.com/wp-content/uploads/2021/02/line_oa_chat_210403_111007.jpg
END:VEVENT
END:VCALENDAR